BEGIN:VCALENDAR
PRODID:-//eluceo/ical//2.0/EN
VERSION:2.0
CALSCALE:GREGORIAN
BEGIN:VEVENT
UID:7e96d6e792811a5645041e6b89f41912
DTSTAMP:20260421T063458Z
SUMMARY:Conférence 
DESCRIPTION:F.Mauron est rédacteur en chef adjoint\nOrador(es): F.Mauron "
  Premières Expériences"
URL:https://fribourg.rotary1990.ch/es/agenda/show/13328
DTSTART;TZID=Europe/Zurich:20100201T121500
DTEND;TZID=Europe/Zurich:20100201T141500
LOCATION:NH-Hôtel
CATEGORIES:Rotary
END:VEVENT
BEGIN:VTIMEZONE
TZID:Europe/Zurich
BEGIN:STANDARD
DTSTART:20100201T121500
TZNAME:CET
TZOFFSETTO:+0100
TZOFFSETFROM:+0100
END:STANDARD
END:VTIMEZONE
END:VCALENDAR
